BEGIN:VCALENDAR
VERSION:2.0
PRODID:-//Knights of Columbus St. Francis of Assisi Council #11092 - ECPv6.15.20//NONSGML v1.0//EN
CALSCALE:GREGORIAN
METHOD:PUBLISH
X-ORIGINAL-URL:https://kofc11092.org
X-WR-CALDESC:Events for Knights of Columbus St. Francis of Assisi Council #11092
REFRESH-INTERVAL;VALUE=DURATION:PT1H
X-Robots-Tag:noindex
X-PUBLISHED-TTL:PT1H
BEGIN:VTIMEZONE
TZID:America/Chicago
BEGIN:DAYLIGHT
TZOFFSETFROM:-0600
TZOFFSETTO:-0500
TZNAME:CDT
DTSTART:20250309T080000
END:DAYLIGHT
BEGIN:STANDARD
TZOFFSETFROM:-0500
TZOFFSETTO:-0600
TZNAME:CST
DTSTART:20251102T070000
END:STANDARD
BEGIN:DAYLIGHT
TZOFFSETFROM:-0600
TZOFFSETTO:-0500
TZNAME:CDT
DTSTART:20260308T080000
END:DAYLIGHT
BEGIN:STANDARD
TZOFFSETFROM:-0500
TZOFFSETTO:-0600
TZNAME:CST
DTSTART:20261101T070000
END:STANDARD
BEGIN:DAYLIGHT
TZOFFSETFROM:-0600
TZOFFSETTO:-0500
TZNAME:CDT
DTSTART:20270314T080000
END:DAYLIGHT
BEGIN:STANDARD
TZOFFSETFROM:-0500
TZOFFSETTO:-0600
TZNAME:CST
DTSTART:20271107T070000
END:STANDARD
END:VTIMEZONE
BEGIN:VEVENT
DTSTART;TZID=America/Chicago:20260412T233000
DTEND;TZID=America/Chicago:20260412T233000
DTSTAMP:20260425T151501
CREATED:20260219T183845Z
LAST-MODIFIED:20260219T211511Z
UID:10001113-1776036600-1776036600@kofc11092.org
SUMMARY:Knights are Offering Divine Mercy and other Easter Signs for 2026
DESCRIPTION:13 Different Beautiful Yard Signs for the Easter Season  \n\n\n\nIn three sizes\, three languages\, and three images: \n\n\n\nDivine Mercy\, Remember the Unborn\, and Our Lady of Guadalupe.  \n\n\n\nPrices range from $25 to $50. \n\n\n\nSigns are on sale after Masses at St. Francis of Assisi Parish in Bolingbrook\, IL until 14 March 2026 or online until Sunday Divine Mercy\, 12 April 2026. When ordering online\, you will be contacted to set up delivery. Preferred delivery is pickup at St. France after a weekend Mass. If that doesn’t work for you\, we can arrange free delivery within a 25 miles radius of St. Francis. Delivery beyond 25 miles (usually by FedEx) will require an extra charge that we can determine after we have your address. See below description of signs to order signs.
URL:https://kofc11092.org/event/knights-are-offering-devine-mercy-and-other-easter-signs-for-2026/
LOCATION:St. Francis Room at St. Francis of Assisi Church\, 1501 W. Boughton Road\, Bolingbrook\, 60490\, United States
CATEGORIES:Easter Signs
GEO:41.699319;-88.1369928
X-APPLE-STRUCTURED-LOCATION;VALUE=URI;X-ADDRESS=St. Francis Room at St. Francis of Assisi Church 1501 W. Boughton Road Bolingbrook 60490 United States;X-APPLE-RADIUS=500;X-TITLE=1501 W. Boughton Road:geo:-88.1369928,41.699319
END:VEVENT
END:VCALENDAR