BEGIN:VCALENDAR
VERSION:2.0
PRODID:-//Knights of Columbus St. Francis of Assisi Council #11092 - ECPv6.15.20//NONSGML v1.0//EN
CALSCALE:GREGORIAN
METHOD:PUBLISH
X-ORIGINAL-URL:https://kofc11092.org
X-WR-CALDESC:Events for Knights of Columbus St. Francis of Assisi Council #11092
REFRESH-INTERVAL;VALUE=DURATION:PT1H
X-Robots-Tag:noindex
X-PUBLISHED-TTL:PT1H
BEGIN:VTIMEZONE
TZID:America/Chicago
BEGIN:DAYLIGHT
TZOFFSETFROM:-0600
TZOFFSETTO:-0500
TZNAME:CDT
DTSTART:20250309T080000
END:DAYLIGHT
BEGIN:STANDARD
TZOFFSETFROM:-0500
TZOFFSETTO:-0600
TZNAME:CST
DTSTART:20251102T070000
END:STANDARD
BEGIN:DAYLIGHT
TZOFFSETFROM:-0600
TZOFFSETTO:-0500
TZNAME:CDT
DTSTART:20260308T080000
END:DAYLIGHT
BEGIN:STANDARD
TZOFFSETFROM:-0500
TZOFFSETTO:-0600
TZNAME:CST
DTSTART:20261101T070000
END:STANDARD
BEGIN:DAYLIGHT
TZOFFSETFROM:-0600
TZOFFSETTO:-0500
TZNAME:CDT
DTSTART:20270314T080000
END:DAYLIGHT
BEGIN:STANDARD
TZOFFSETFROM:-0500
TZOFFSETTO:-0600
TZNAME:CST
DTSTART:20271107T070000
END:STANDARD
END:VTIMEZONE
BEGIN:VEVENT
DTSTART;TZID=America/Chicago:20260506T193000
DTEND;TZID=America/Chicago:20260506T210000
DTSTAMP:20260425T151601
CREATED:20250710T162534Z
LAST-MODIFIED:20250710T162542Z
UID:10000991-1778095800-1778101200@kofc11092.org
SUMMARY:Monthly Business Meeting Council 11092
DESCRIPTION:Knights Council Monthly Business Meeting
URL:https://kofc11092.org/event/monthly-business-meeting-council-11092/2026-05-06/
LOCATION:St. Francis Room at St. Francis of Assisi Church\, 1501 W. Boughton Road\, Bolingbrook\, 60490\, United States
CATEGORIES:Council Admin
GEO:41.699319;-88.1369928
X-APPLE-STRUCTURED-LOCATION;VALUE=URI;X-ADDRESS=St. Francis Room at St. Francis of Assisi Church 1501 W. Boughton Road Bolingbrook 60490 United States;X-APPLE-RADIUS=500;X-TITLE=1501 W. Boughton Road:geo:-88.1369928,41.699319
END:VEVENT
BEGIN:VEVENT
DTSTART;TZID=America/Chicago:20260517T080000
DTEND;TZID=America/Chicago:20260517T130000
DTSTAMP:20260425T151601
CREATED:20250807T171134Z
LAST-MODIFIED:20260414T195457Z
UID:10001108-1779004800-1779022800@kofc11092.org
SUMMARY:Pancake Breakfast May 17\, 2026
DESCRIPTION:
URL:https://kofc11092.org/event/pancake-breakfast-3/
LOCATION:St. Francis Room at St. Francis of Assisi Church\, 1501 W. Boughton Road\, Bolingbrook\, 60490\, United States
CATEGORIES:Social
GEO:41.699319;-88.1369928
X-APPLE-STRUCTURED-LOCATION;VALUE=URI;X-ADDRESS=St. Francis Room at St. Francis of Assisi Church 1501 W. Boughton Road Bolingbrook 60490 United States;X-APPLE-RADIUS=500;X-TITLE=1501 W. Boughton Road:geo:-88.1369928,41.699319
END:VEVENT
BEGIN:VEVENT
DTSTART;TZID=America/Chicago:20260527T193000
DTEND;TZID=America/Chicago:20260527T203000
DTSTAMP:20260425T151601
CREATED:20250710T163035Z
LAST-MODIFIED:20250710T163045Z
UID:10001052-1779910200-1779913800@kofc11092.org
SUMMARY:Officers Meeting Knights Council 11092
DESCRIPTION:Monthly Officers meeting for Knights Council 11092
URL:https://kofc11092.org/event/officers-meeting-knights-council-11092/2026-05-27/
LOCATION:Classroom 6 in the St. Francis Room\, 1501 W. Boughton Road\, Bolingbrook\, IL\, 60490\, United States
CATEGORIES:Council Admin
GEO:41.699319;-88.1369928
X-APPLE-STRUCTURED-LOCATION;VALUE=URI;X-ADDRESS=Classroom 6 in the St. Francis Room 1501 W. Boughton Road Bolingbrook IL 60490 United States;X-APPLE-RADIUS=500;X-TITLE=1501 W. Boughton Road:geo:-88.1369928,41.699319
END:VEVENT
END:VCALENDAR