BEGIN:VCALENDAR
VERSION:2.0
PRODID:-//Knights of Columbus St. Francis of Assisi Council #11092 - ECPv6.15.20//NONSGML v1.0//EN
CALSCALE:GREGORIAN
METHOD:PUBLISH
X-WR-CALNAME:Knights of Columbus St. Francis of Assisi Council #11092
X-ORIGINAL-URL:https://kofc11092.org
X-WR-CALDESC:Events for Knights of Columbus St. Francis of Assisi Council #11092
REFRESH-INTERVAL;VALUE=DURATION:PT1H
X-Robots-Tag:noindex
X-PUBLISHED-TTL:PT1H
BEGIN:VTIMEZONE
TZID:America/Chicago
BEGIN:DAYLIGHT
TZOFFSETFROM:-0600
TZOFFSETTO:-0500
TZNAME:CDT
DTSTART:20250309T080000
END:DAYLIGHT
BEGIN:STANDARD
TZOFFSETFROM:-0500
TZOFFSETTO:-0600
TZNAME:CST
DTSTART:20251102T070000
END:STANDARD
BEGIN:DAYLIGHT
TZOFFSETFROM:-0600
TZOFFSETTO:-0500
TZNAME:CDT
DTSTART:20260308T080000
END:DAYLIGHT
BEGIN:STANDARD
TZOFFSETFROM:-0500
TZOFFSETTO:-0600
TZNAME:CST
DTSTART:20261101T070000
END:STANDARD
BEGIN:DAYLIGHT
TZOFFSETFROM:-0600
TZOFFSETTO:-0500
TZNAME:CDT
DTSTART:20270314T080000
END:DAYLIGHT
BEGIN:STANDARD
TZOFFSETFROM:-0500
TZOFFSETTO:-0600
TZNAME:CST
DTSTART:20271107T070000
END:STANDARD
END:VTIMEZONE
BEGIN:VEVENT
DTSTART;TZID=America/Chicago:20260603T193000
DTEND;TZID=America/Chicago:20260603T210000
DTSTAMP:20260425T163048
CREATED:20250710T162534Z
LAST-MODIFIED:20250710T162542Z
UID:10000992-1780515000-1780520400@kofc11092.org
SUMMARY:Monthly Business Meeting Council 11092
DESCRIPTION:Knights Council Monthly Business Meeting
URL:https://kofc11092.org/event/monthly-business-meeting-council-11092/2026-06-03/
LOCATION:St. Francis Room at St. Francis of Assisi Church\, 1501 W. Boughton Road\, Bolingbrook\, 60490\, United States
CATEGORIES:Council Admin
GEO:41.699319;-88.1369928
X-APPLE-STRUCTURED-LOCATION;VALUE=URI;X-ADDRESS=St. Francis Room at St. Francis of Assisi Church 1501 W. Boughton Road Bolingbrook 60490 United States;X-APPLE-RADIUS=500;X-TITLE=1501 W. Boughton Road:geo:-88.1369928,41.699319
END:VEVENT
BEGIN:VEVENT
DTSTART;TZID=America/Chicago:20260624T193000
DTEND;TZID=America/Chicago:20260624T203000
DTSTAMP:20260425T163048
CREATED:20250710T163035Z
LAST-MODIFIED:20250710T163045Z
UID:10001053-1782329400-1782333000@kofc11092.org
SUMMARY:Officers Meeting Knights Council 11092
DESCRIPTION:Monthly Officers meeting for Knights Council 11092
URL:https://kofc11092.org/event/officers-meeting-knights-council-11092/2026-06-24/
LOCATION:Classroom 6 in the St. Francis Room\, 1501 W. Boughton Road\, Bolingbrook\, IL\, 60490\, United States
CATEGORIES:Council Admin
GEO:41.699319;-88.1369928
X-APPLE-STRUCTURED-LOCATION;VALUE=URI;X-ADDRESS=Classroom 6 in the St. Francis Room 1501 W. Boughton Road Bolingbrook IL 60490 United States;X-APPLE-RADIUS=500;X-TITLE=1501 W. Boughton Road:geo:-88.1369928,41.699319
END:VEVENT
END:VCALENDAR